BEGIN:VCALENDAR
PRODID:-//eluceo/ical//2.0/EN
VERSION:2.0
CALSCALE:GREGORIAN
BEGIN:VEVENT
UID:c77a6a19494ac18772274090022eb1f8
DTSTAMP:20260423T084612Z
SUMMARY:DICTEE NATIONALE - ESIEE - 14H30 - ESIEE
DESCRIPTION:La dictée Nationale du Rotary : \n\nUne dictée contre l'illet
 trisme – un des buts du Rotary International !\n\n \n\nQuoi ?\n\n \n
 \nAfin de sensibiliser le public à cette cause\, les quatre clubs Rotarie
 ns amiénois et le Rotaract se sont unis pour organiser l’édition 2019 
 de la « Dictée Nationale du Rotary » dans les locaux de l’ESIEE le 
 samedi 16 mars à 14h30.\n\nL’entrée est gratuite.  \nÀ la suite de 
 la remise des prix une collation sera offerte.\n\n \n\nComment ?\n\n \n
 \nMoment de jeux qui nous rappelle les bancs d’école\, tout le monde pe
 ut participer des plus jeunes aux plus anciens.\n\n \n\nNos partenaires 
 ?\n\n \n\nNous aurons le grand plaisir cette année d’être soutenu par
  Sandra Moubarak qui lira et commentera la dictée.\n\n \n\nNous accueill
 erons une quarantaine d’élèves des écoles LESOT et VOLTAIRE pour part
 iciper à une activité ludique autour des mots organisée par l’associa
 tion Coup de Pouce Clé\, et animée par Eric Chitcatt (un des humoristes 
 régionaux engagé dans cette cause).\n\n \n\nCe temps pour les plus jeun
 es est possible grâce à l’aide d’Amiens Métropole.\n\nDes prix sero
 nt attribués aux meilleures copies sous forme de livres.\n\nLa parole ser
 a donnée à deux associations de lutte contre l’illettrisme : associati
 on Cardan et Coup de pouce clé pour présenter leurs actions dans ce doma
 ine en Picardie.\n\n             \nActions pérennes des Rotar
 y Clubs Amiens et Amiens Cathédrale CONTRE L’ILLETTRISME\n\nDepuis de 
 nombreuses années\, les clubs rotariens amiénois interviennent dans la l
 utte contre l’illettrisme en collaboration avec le corps enseignant.\n\n
 Depuis 25 ans\, une fructueuse collaboration s'est mise en place entre le 
 Rotary Club Amiens\, le Rectorat\, l'Inspection Académique et l'école É
 mile Lesot.                    \nChaque année\, une qu
 inzaine d'enfants de CP ou CE1 qui ont besoin d'être aidés dans leur app
 rentissage de la lecture ou du calcul bénéficient d'un soutien individua
 lisé par un rotarien ou un ami de rotarien sur la base des instructions d
 onnées par son maître ou sa maîtresse.\n\nDe même\, depuis plus de 10 
 ans\, le Rotary Club Amiens Cathédrale finance l’achat de livres\, cho
 isis par le corps enseignant\, pour les classes du CP aux CE2 de l’écol
 e Voltaire.   \nLes enfants cheminent tout au long de l’année sur un
 e histoire à partir du livre qui sert de support pour développer la capa
 cité à la lecture mais aussi à l’expression orale et artistique des e
 nfants. À la fin de l’année scolaire\, l’enfant peut garder le livre
  et l’emporter chez lui.     
URL:https://amiens-cathedrale.rotaryd1520.org/fr/agenda/show/15312
DTSTART;TZID=Europe/Zurich:20190316T143000
DTEND;TZID=Europe/Zurich:20190316T143000
LOCATION:ESIEE
CATEGORIES:Rotary
END:VEVENT
BEGIN:VTIMEZONE
TZID:Europe/Zurich
BEGIN:STANDARD
DTSTART:20190316T143000
TZNAME:CET
TZOFFSETTO:+0100
TZOFFSETFROM:+0100
END:STANDARD
END:VTIMEZONE
END:VCALENDAR
