BEGIN:VCALENDAR
PRODID:-//eluceo/ical//2.0/EN
VERSION:2.0
CALSCALE:GREGORIAN
BEGIN:VEVENT
UID:e31507de55c532afafa3f6fb403b8e38
DTSTAMP:20260420T110938Z
SUMMARY:La dictée du Rotary
DESCRIPTION:Conférencier(s): La dictée nationale du RotaryAvec la partic
 ipation exceptionnelle de Sandra Moubarak le 11 mars 2023 à 14h30rendez
 -vousUniLaSalle Amiens ESIEE-Amiens3 niveaux :Primaires\, collégiensLycé
 ensAdultesParticipation adulte : 5€Réservations et Inscriptions :amiens
 .rotarys@gmail.comRenseignements06 82 40 30 39
URL:https://amiens-cathedrale.rotaryd1520.org/fr/agenda/show/35205
DTSTART;TZID=Europe/Zurich:20230311T143000
DTEND;TZID=Europe/Zurich:20230311T143000
LOCATION:UniLaSalle Amiens / ESIEE Amiens. 14 Quai de la Somme\, 80080 Amie
 ns
CATEGORIES:Rotary
END:VEVENT
BEGIN:VTIMEZONE
TZID:Europe/Zurich
BEGIN:STANDARD
DTSTART:20230311T143000
TZNAME:CET
TZOFFSETTO:+0100
TZOFFSETFROM:+0100
END:STANDARD
END:VTIMEZONE
END:VCALENDAR
