BEGIN:VCALENDAR
PRODID:-//eluceo/ical//2.0/EN
VERSION:2.0
CALSCALE:GREGORIAN
BEGIN:VEVENT
UID:42b533f644844ea3a150d7be2314d9a8
DTSTAMP:20260422T083217Z
SUMMARY:Rotaract Amiens petit déjeuner Fête des Mères
DESCRIPTION:Conférencier(s): Spécial Fêtes des Mères\nRotaract Amiens\n
 \nOffrez lui le plus gourmand des Petits déjeuners
URL:https://amiens-cathedrale.rotaryd1520.org/fr/agenda/show/36314
DTSTART;TZID=Europe/Zurich:20230604T080000
DTEND;TZID=Europe/Zurich:20230604T120000
LOCATION:livrer un petit-déjeuner directement à domicile
CATEGORIES:Rotary
END:VEVENT
BEGIN:VTIMEZONE
TZID:Europe/Zurich
BEGIN:DAYLIGHT
DTSTART:20230604T080000
TZNAME:CEST
TZOFFSETTO:+0200
TZOFFSETFROM:+0200
END:DAYLIGHT
END:VTIMEZONE
END:VCALENDAR
